BEGIN:VCALENDAR
VERSION:2.0
PRODID:-//TSI - ECPv6.8.2//NONSGML v1.0//EN
CALSCALE:GREGORIAN
METHOD:PUBLISH
X-WR-CALNAME:TSI
X-ORIGINAL-URL:https://international.thesanctuary.edu.gh
X-WR-CALDESC:Events for TSI
REFRESH-INTERVAL;VALUE=DURATION:PT1H
X-Robots-Tag:noindex
X-PUBLISHED-TTL:PT1H
BEGIN:VTIMEZONE
TZID:UTC
BEGIN:STANDARD
TZOFFSETFROM:+0000
TZOFFSETTO:+0000
TZNAME:UTC
DTSTART:20240101T000000
END:STANDARD
END:VTIMEZONE
BEGIN:VEVENT
DTSTART;VALUE=DATE:20241220
DTEND;VALUE=DATE:20241221
DTSTAMP:20260420T041433
CREATED:20241021T093444Z
LAST-MODIFIED:20241021T093444Z
UID:157-1734652800-1734739199@international.thesanctuary.edu.gh
SUMMARY:TSI End of Term One Review Meeting
DESCRIPTION:
URL:https://international.thesanctuary.edu.gh/event/tsi-end-of-term-one-review-meeting/
END:VEVENT
BEGIN:VEVENT
DTSTART;VALUE=DATE:20241219
DTEND;VALUE=DATE:20241220
DTSTAMP:20260420T041433
CREATED:20241021T093310Z
LAST-MODIFIED:20241021T093310Z
UID:155-1734566400-1734652799@international.thesanctuary.edu.gh
SUMMARY:Vacation Day
DESCRIPTION:
URL:https://international.thesanctuary.edu.gh/event/vacation-day/
END:VEVENT
BEGIN:VEVENT
DTSTART;TZID=UTC:20241216T070000
DTEND;TZID=UTC:20241218T150000
DTSTAMP:20260420T041433
CREATED:20241021T093116Z
LAST-MODIFIED:20241021T093116Z
UID:153-1734332400-1734534000@international.thesanctuary.edu.gh
SUMMARY:Open Day
DESCRIPTION:
URL:https://international.thesanctuary.edu.gh/event/open-day/
END:VEVENT
BEGIN:VEVENT
DTSTART;TZID=UTC:20241209T070000
DTEND;TZID=UTC:20241213T150000
DTSTAMP:20260420T041433
CREATED:20241022T084325Z
LAST-MODIFIED:20241022T084325Z
UID:163-1733727600-1734102000@international.thesanctuary.edu.gh
SUMMARY:End of Term Examination
DESCRIPTION:
URL:https://international.thesanctuary.edu.gh/event/end-of-term-examination-2/
END:VEVENT
BEGIN:VEVENT
DTSTART;TZID=UTC:20241208T070000
DTEND;TZID=UTC:20241208T150000
DTSTAMP:20260420T041433
CREATED:20241021T093622Z
LAST-MODIFIED:20241021T093622Z
UID:159-1733641200-1733670000@international.thesanctuary.edu.gh
SUMMARY:Back to School
DESCRIPTION:
URL:https://international.thesanctuary.edu.gh/event/back-to-school/
END:VEVENT
BEGIN:VEVENT
DTSTART;VALUE=DATE:20241206
DTEND;VALUE=DATE:20241207
DTSTAMP:20260420T041433
CREATED:20241022T085332Z
LAST-MODIFIED:20241022T085332Z
UID:165-1733443200-1733529599@international.thesanctuary.edu.gh
SUMMARY:Farmers' Day
DESCRIPTION:
URL:https://international.thesanctuary.edu.gh/event/farmers-day/
END:VEVENT
BEGIN:VEVENT
DTSTART;TZID=UTC:20241202T070000
DTEND;TZID=UTC:20241205T150000
DTSTAMP:20260420T041433
CREATED:20241021T092808Z
LAST-MODIFIED:20241021T092936Z
UID:150-1733122800-1733410800@international.thesanctuary.edu.gh
SUMMARY:End of Term One Examination
DESCRIPTION:
URL:https://international.thesanctuary.edu.gh/event/end-of-term-examination/
END:VEVENT
BEGIN:VEVENT
DTSTART;TZID=UTC:20241118T070000
DTEND;TZID=UTC:20241122T150000
DTSTAMP:20260420T041433
CREATED:20241021T092502Z
LAST-MODIFIED:20241021T092502Z
UID:148-1731913200-1732287600@international.thesanctuary.edu.gh
SUMMARY:2nd Class Test
DESCRIPTION:
URL:https://international.thesanctuary.edu.gh/event/2nd-class-test/
END:VEVENT
BEGIN:VEVENT
DTSTART;VALUE=DATE:20241107
DTEND;VALUE=DATE:20241109
DTSTAMP:20260420T041433
CREATED:20241021T092341Z
LAST-MODIFIED:20241021T092341Z
UID:146-1730937600-1731110399@international.thesanctuary.edu.gh
SUMMARY:Mid-Term Break
DESCRIPTION:
URL:https://international.thesanctuary.edu.gh/event/mid-term-break/
END:VEVENT
BEGIN:VEVENT
DTSTART;VALUE=DATE:20241107
DTEND;VALUE=DATE:20241108
DTSTAMP:20260420T041433
CREATED:20241021T092056Z
LAST-MODIFIED:20241021T092056Z
UID:144-1730937600-1731023999@international.thesanctuary.edu.gh
SUMMARY:Field Trip
DESCRIPTION:
URL:https://international.thesanctuary.edu.gh/event/field-trip/
END:VEVENT
BEGIN:VEVENT
DTSTART;TZID=UTC:20241014T070000
DTEND;TZID=UTC:20241018T150000
DTSTAMP:20260420T041433
CREATED:20241021T091940Z
LAST-MODIFIED:20241021T091940Z
UID:142-1728889200-1729263600@international.thesanctuary.edu.gh
SUMMARY:Cambridge International Primary Checkpoint Examinations
DESCRIPTION:
URL:https://international.thesanctuary.edu.gh/event/cambridge-international-primary-checkpoint-examinations/
END:VEVENT
BEGIN:VEVENT
DTSTART;TZID=UTC:20241014T070000
DTEND;TZID=UTC:20241018T150000
DTSTAMP:20260420T041433
CREATED:20241021T091801Z
LAST-MODIFIED:20241021T091801Z
UID:140-1728889200-1729263600@international.thesanctuary.edu.gh
SUMMARY:1st Class Test
DESCRIPTION:
URL:https://international.thesanctuary.edu.gh/event/1st-class-test/
END:VEVENT
BEGIN:VEVENT
DTSTART;VALUE=DATE:20240928
DTEND;VALUE=DATE:20240929
DTSTAMP:20260420T041433
CREATED:20241021T091517Z
LAST-MODIFIED:20241021T091517Z
UID:138-1727481600-1727567999@international.thesanctuary.edu.gh
SUMMARY:Professional Development Training for Teaching Staff
DESCRIPTION:
URL:https://international.thesanctuary.edu.gh/event/professional-development-training-for-teaching-staff-2/
END:VEVENT
BEGIN:VEVENT
DTSTART;VALUE=DATE:20240914
DTEND;VALUE=DATE:20240915
DTSTAMP:20260420T041433
CREATED:20241021T091306Z
LAST-MODIFIED:20241021T091306Z
UID:136-1726272000-1726358399@international.thesanctuary.edu.gh
SUMMARY:Professional Development Training for Teaching Staff
DESCRIPTION:
URL:https://international.thesanctuary.edu.gh/event/professional-development-training-for-teaching-staff/
END:VEVENT
BEGIN:VEVENT
DTSTART;TZID=UTC:20240910T070000
DTEND;TZID=UTC:20240910T150000
DTSTAMP:20260420T041433
CREATED:20241021T091122Z
LAST-MODIFIED:20241021T091122Z
UID:134-1725951600-1725980400@international.thesanctuary.edu.gh
SUMMARY:Academic Year Begins
DESCRIPTION:
URL:https://international.thesanctuary.edu.gh/event/academic-year-begins/
END:VEVENT
END:VCALENDAR